BEGIN:VCALENDAR
VERSION:2.0
PRODID:-//Barrington Music Institute - ECPv6.15.17//NONSGML v1.0//EN
CALSCALE:GREGORIAN
METHOD:PUBLISH
X-WR-CALNAME:Barrington Music Institute
X-ORIGINAL-URL:https://www.barringtonmusicinstitute.org
X-WR-CALDESC:Events for Barrington Music Institute
REFRESH-INTERVAL;VALUE=DURATION:PT1H
X-Robots-Tag:noindex
X-PUBLISHED-TTL:PT1H
BEGIN:VTIMEZONE
TZID:UTC
BEGIN:STANDARD
TZOFFSETFROM:+0000
TZOFFSETTO:+0000
TZNAME:UTC
DTSTART:20220101T000000
END:STANDARD
END:VTIMEZONE
BEGIN:VEVENT
DTSTART;TZID=UTC:20230506T150000
DTEND;TZID=UTC:20230506T163000
DTSTAMP:20260422T013348
CREATED:20230424T002045Z
LAST-MODIFIED:20230424T002409Z
UID:13264-1683385200-1683390600@www.barringtonmusicinstitute.org
SUMMARY:SPRING CONCERT 2023
DESCRIPTION:PLEASE JOIN US!  TICKETS $15 at door\nOr purchase HERE and pick up at concert.
URL:https://www.barringtonmusicinstitute.org/events/spring-concert-2023/
LOCATION:Barrington High School\, 616 W Main Street\, Barrington\, IL\, 60010\, United States
ATTACH;FMTTYPE=image/jpeg:https://www.barringtonmusicinstitute.org/wp-content/uploads/2023/04/Spring-Concert-jpg.jpg
END:VEVENT
END:VCALENDAR